BEGIN:VCALENDAR
VERSION:2.0
PRODID:-//Carleton Place Online Services - ECPv6.15.20//NONSGML v1.0//EN
CALSCALE:GREGORIAN
METHOD:PUBLISH
X-WR-CALNAME:Carleton Place Online Services
X-ORIGINAL-URL:https://online.carletonplace.ca
X-WR-CALDESC:Events for Carleton Place Online Services
REFRESH-INTERVAL;VALUE=DURATION:PT1H
X-Robots-Tag:noindex
X-PUBLISHED-TTL:PT1H
BEGIN:VTIMEZONE
TZID:America/Toronto
BEGIN:DAYLIGHT
TZOFFSETFROM:-0500
TZOFFSETTO:-0400
TZNAME:EDT
DTSTART:20250309T070000
END:DAYLIGHT
BEGIN:STANDARD
TZOFFSETFROM:-0400
TZOFFSETTO:-0500
TZNAME:EST
DTSTART:20251102T060000
END:STANDARD
BEGIN:DAYLIGHT
TZOFFSETFROM:-0500
TZOFFSETTO:-0400
TZNAME:EDT
DTSTART:20260308T070000
END:DAYLIGHT
BEGIN:STANDARD
TZOFFSETFROM:-0400
TZOFFSETTO:-0500
TZNAME:EST
DTSTART:20261101T060000
END:STANDARD
BEGIN:DAYLIGHT
TZOFFSETFROM:-0500
TZOFFSETTO:-0400
TZNAME:EDT
DTSTART:20270314T070000
END:DAYLIGHT
BEGIN:STANDARD
TZOFFSETFROM:-0400
TZOFFSETTO:-0500
TZNAME:EST
DTSTART:20271107T060000
END:STANDARD
END:VTIMEZONE
BEGIN:VEVENT
DTSTART;TZID=America/Toronto:20260318T100000
DTEND;TZID=America/Toronto:20260318T100000
DTSTAMP:20260425T204852
CREATED:20260302T143043Z
LAST-MODIFIED:20260317T225629Z
UID:10000017-1773828000-1773828000@online.carletonplace.ca
SUMMARY:K-Pop Demon Hunters Bracelet Making
DESCRIPTION:Join us to make bracelets inspired by the world hit K-Pop Demon Hunters! \nWe’ll be listening to all of Huntrix’ hits (and maybe a few by the Saja boys) while we create bracelets with lots of cool beads and charms! \nPLEASE NOTE: This event is for children ages 9+ \nA note about registration: Registration will open on Monday\, March 2\, 2026 at 9:30am.  There are limited spaces.  If you try to register but all the spaces are full\, you can add your name to the waiting list – if anyone de-registers from the program\, everyone on the waitlist will be emailed informing them about the opening\, and you can visit the origonal registration link to register.
URL:https://online.carletonplace.ca/event/k-pop-demon-hunters-bracelet-making
LOCATION:Carleton Place Public Library\, 101 Beckwith St.\, Carleton Place\, Ontario\, K7C 2T3\, Canada
CATEGORIES:Library
ORGANIZER;CN="Carleton Place Public Library":MAILTO:library@carletonplace.ca
END:VEVENT
END:VCALENDAR