BEGIN:VCALENDAR
VERSION:2.0
PRODID:-//Carleton Place Online Services - ECPv6.15.20//NONSGML v1.0//EN
CALSCALE:GREGORIAN
METHOD:PUBLISH
X-ORIGINAL-URL:https://online.carletonplace.ca
X-WR-CALDESC:Events for Carleton Place Online Services
REFRESH-INTERVAL;VALUE=DURATION:PT1H
X-Robots-Tag:noindex
X-PUBLISHED-TTL:PT1H
BEGIN:VTIMEZONE
TZID:America/Toronto
BEGIN:DAYLIGHT
TZOFFSETFROM:-0500
TZOFFSETTO:-0400
TZNAME:EDT
DTSTART:20250309T070000
END:DAYLIGHT
BEGIN:STANDARD
TZOFFSETFROM:-0400
TZOFFSETTO:-0500
TZNAME:EST
DTSTART:20251102T060000
END:STANDARD
BEGIN:DAYLIGHT
TZOFFSETFROM:-0500
TZOFFSETTO:-0400
TZNAME:EDT
DTSTART:20260308T070000
END:DAYLIGHT
BEGIN:STANDARD
TZOFFSETFROM:-0400
TZOFFSETTO:-0500
TZNAME:EST
DTSTART:20261101T060000
END:STANDARD
BEGIN:DAYLIGHT
TZOFFSETFROM:-0500
TZOFFSETTO:-0400
TZNAME:EDT
DTSTART:20270314T070000
END:DAYLIGHT
BEGIN:STANDARD
TZOFFSETFROM:-0400
TZOFFSETTO:-0500
TZNAME:EST
DTSTART:20271107T060000
END:STANDARD
END:VTIMEZONE
BEGIN:VEVENT
DTSTART;TZID=America/Toronto:20260418T140000
DTEND;TZID=America/Toronto:20260418T150000
DTSTAMP:20260425T072011
CREATED:20260320T191837Z
LAST-MODIFIED:20260414T160933Z
UID:10000025-1776520800-1776524400@online.carletonplace.ca
SUMMARY:Author Trudy Driscoll at the Carleton Place Public Library
DESCRIPTION:Local author Trudy Driscoll joins us on Saturday\, April 18\, 2026 at 2pm for an exciting discussion about her book\, “BREAKING FREE AFTER 50: DITCH GUILT\, FIND PEACE\, REDISCOVER YOU” aimed at women who are experiencing lots of guilt as they age and want to discover new ways to counter this. She’ll leave plenty of time after her discussion for questions and thoughts\, so plan on staying for the full hour.  She’ll be selling signed copies of her book after the event for $20 each\, cash and or e-transfer only. \nDriscoll will also cover her writing journey\, offering interesting information about how to write a book\, what to do next\, and how to go about the self-publishing journey. If you have been wanting to write a book–especially a self-help book–she’ll share how to get started and tell you all about her own path to publication. \nRegistration is available below.  Please choose “RSVP” to get on the list for this exciting event–spaces are limited and it will be popular.
URL:https://online.carletonplace.ca/event/author-trudy-driscoll-at-the-carleton-place-public-library
LOCATION:Carleton Place Public Library\, 101 Beckwith St.\, Carleton Place\, Ontario\, K7C 2T3\, Canada
CATEGORIES:Library
ATTACH;FMTTYPE=image/jpeg:https://online.carletonplace.ca/wp-content/uploads/2026/03/TrudyDriscoll-e1776182964823.jpg
ORGANIZER;CN="Carleton Place Public Library":MAILTO:library@carletonplace.ca
END:VEVENT
END:VCALENDAR