BEGIN:VCALENDAR
VERSION:2.0
PRODID:-//Carleton Place Online Services - ECPv6.15.20//NONSGML v1.0//EN
CALSCALE:GREGORIAN
METHOD:PUBLISH
X-ORIGINAL-URL:https://online.carletonplace.ca
X-WR-CALDESC:Events for Carleton Place Online Services
REFRESH-INTERVAL;VALUE=DURATION:PT1H
X-Robots-Tag:noindex
X-PUBLISHED-TTL:PT1H
BEGIN:VTIMEZONE
TZID:America/Toronto
BEGIN:DAYLIGHT
TZOFFSETFROM:-0500
TZOFFSETTO:-0400
TZNAME:EDT
DTSTART:20250309T070000
END:DAYLIGHT
BEGIN:STANDARD
TZOFFSETFROM:-0400
TZOFFSETTO:-0500
TZNAME:EST
DTSTART:20251102T060000
END:STANDARD
BEGIN:DAYLIGHT
TZOFFSETFROM:-0500
TZOFFSETTO:-0400
TZNAME:EDT
DTSTART:20260308T070000
END:DAYLIGHT
BEGIN:STANDARD
TZOFFSETFROM:-0400
TZOFFSETTO:-0500
TZNAME:EST
DTSTART:20261101T060000
END:STANDARD
BEGIN:DAYLIGHT
TZOFFSETFROM:-0500
TZOFFSETTO:-0400
TZNAME:EDT
DTSTART:20270314T070000
END:DAYLIGHT
BEGIN:STANDARD
TZOFFSETFROM:-0400
TZOFFSETTO:-0500
TZNAME:EST
DTSTART:20271107T060000
END:STANDARD
END:VTIMEZONE
BEGIN:VEVENT
DTSTART;TZID=America/Toronto:20260513T180000
DTEND;TZID=America/Toronto:20260513T190000
DTSTAMP:20260425T115126
CREATED:20260409T183341Z
LAST-MODIFIED:20260423T150201Z
UID:10000027-1778695200-1778698800@online.carletonplace.ca
SUMMARY:The Our Stories Project Info Session
DESCRIPTION:Join the Carleton Place Public Library to learn about the Our Stories Project\, a new mini documentary contest that brings local teens and seniors together through storytelling. \nIn this unique initiative\, teen participants\, working in teams of one to four\, will create short documentaries featuring older adults in the Carleton Place community. The project aims to preserve personal histories\, build intergenerational connections\, and celebrate the voices and experiences of local residents. \nAt this information session\, attendees will learn how the project works\, what participation involves\, key dates\, and how teams and senior participants will be matched. Teen team registration will open immediately after the session at 7 p.m. Space is limited\, and only one member of each team is required to complete the registration process. \nThe project will run throughout the summer and includes hands-on workshops and guidance from professionals in video production\, storytelling\, and editing. Final films will be submitted at the end of the summer and celebrated at a fall awards event\, with prizes awarded to selected teams. \nSeniors interested in being featured in a documentary are also encouraged to participate and can register anytime by emailing jhawkins@carletonplace.ca. \nInterested in attending the information session? Please RSVP to reserve your spot.
URL:https://online.carletonplace.ca/event/ourstoriesproject-info
LOCATION:Carleton Place Public Library\, 101 Beckwith St.\, Carleton Place\, Ontario\, K7C 2T3\, Canada
CATEGORIES:Library
ATTACH;FMTTYPE=image/jpeg:https://online.carletonplace.ca/wp-content/uploads/2026/04/OSP-Poster-Teens-1.jpg
END:VEVENT
BEGIN:VEVENT
DTSTART;TZID=America/Toronto:20260530T193000
DTEND;TZID=America/Toronto:20260530T220000
DTSTAMP:20260425T115126
CREATED:20260108T185801Z
LAST-MODIFIED:20260224T160116Z
UID:10000009-1780169400-1780178400@online.carletonplace.ca
SUMMARY:Los Desperados- The Eagles Tribute Concert
DESCRIPTION:Carleton Place proudly welcomes Los Desperados\, the ultimate tribute to The Eagles!\nSaturday\, May 30\, 2026\nDoors open: 6:45pm | Show start: 7:30pm\nTickets: $25.00/person \nAbout the Band: Formed in 2021\, Los Desperados have quickly become known as Canada’s Premier Tribute to the Eagles for their musicianship\, rich harmonies\, and authentic renditions of Eagles classics. This powerhouse six-piece lineup includes Cory Maxam (lead vocals/guitar)\, Izzy Martinez (guitar/vocals)\, Gabor “Gabe” Obert (guitar/keys/vocals)\, Michael Paterson (keyboards)\, Ed Lauzon (bass/vocals)\, and Alex McFarlane (drums).\nTogether\, they recreate the magic of the Eagles with stunning precision and heart.\nPlaying All Their Greatest like Hotel California\, Take It Easy\, Desperado\, Lyin’ Eyes\, and Life in the Fast Lane performed with the lush harmonies and guitar work that made the Eagles legendary. Every note is delivered with deep respect for the originals\, creating a live experience that feels both nostalgic and fresh.\n\nDoors: 6:45pm | Show: 7:30p.m.
URL:https://online.carletonplace.ca/event/los-desperados-the-eagles-tribute-concert
LOCATION:Carleton Place Town Hall Auditorium\, 175 Bridge St\, Carleton Place\, Ontario\, K7C2V8\, Canada
CATEGORIES:Community Events
ATTACH;FMTTYPE=image/png:https://online.carletonplace.ca/wp-content/uploads/2026/01/Los-Desperados-Banner.png
ORGANIZER;CN="Town of Carleton Place":MAILTO:info@carletonplace.ca
GEO:45.140653079927;-76.146466956953
X-APPLE-STRUCTURED-LOCATION;VALUE=URI;X-ADDRESS=Carleton Place Town Hall Auditorium 175 Bridge St Carleton Place Ontario K7C2V8 Canada;X-APPLE-RADIUS=500;X-TITLE=175 Bridge St:geo:-76.146466956953,45.140653079927
END:VEVENT
BEGIN:VEVENT
DTSTART;TZID=America/Toronto:20260613T090000
DTEND;TZID=America/Toronto:20260613T170000
DTSTAMP:20260425T115126
CREATED:20260317T211141Z
LAST-MODIFIED:20260409T210350Z
UID:10000023-1781341200-1781370000@online.carletonplace.ca
SUMMARY:Carleton Place Youth Landscape Art Competition 2026 Online Registration
DESCRIPTION:It’s the very first Carleton Place Youth Landscape Art Competition in 2026 and the theme this year is “The Beauty of Carleton Place”. We’re celebrating how our youth see this beautiful town and the wonderful talent we have right here. Brought to you by the Carleton Place Public Library and proudly sponsored by the Art Hub and Arts Carleton Place. We’ll also have some great prizes from local businesses who believe in the talented youth in our community. \nWHEN\nThe event will take place on Saturday\, June 13\, 2026 from 9am – 5pm. Once you register\, you’ll be reminded to stop by the library that morning starting at 9am to CHECK IN and pick up a map with the approved locations for this event. All artwork must be completed on June 13\, 2026 only\, and submitted back to the library by 5pm in order to be considered for the Competition and the Art Show that follows. Please see the rules following. \nWHO\nYouth aged 7-17 will be invited to participate.  There will be three age categories:  Ages 7-10\, Ages 11-14 & Ages 15-18.  All participants will only be judged within the category they fall into on June 13\, 2026.  All artists who register\, check in and then submit one piece of art by 5pm on June 13\, 2026 will be considered for the Art Show and Competition to follow. Each age category will have their own prize\, but all participants in the art show will also be considered for the “Best In Show” award voted on by the public who visit the library from June 15-25\, 2026. \nWHAT\n“The Beauty of Carleton Place” is a landscape art competition in 2026. This means young artists must submit a piece of art that depicts an urban or natural landscape consistent with the approved locations on the map given out on the day of the event. Urban landscapes show buildings or parts of the architecture\, and natural landscapes include plants\, water\, and land. Artworks may include people (with permissions) or animals\, but they should only be used to enhance the chosen location\, not be the primary subject. \nDoing artwork outside is known as “Plein Air” artwork\, which typically means that an artist will create the entire piece of art while outside. Since this is a youth art competition\, we realize that this may not be feasible for families to remain in one outdoor location all day while the art is being created. Therefore\, we will allow participants to take photos at one of the approved locations and use those photos at home as a reference if this is more adaptable to a family routine on the day of the event. We want to see what our youth believe to be “The Beauty of Carleton Place”. \nWHERE\nWe won’t be releasing the list of approved locations until 9am on the morning of the event. Each participant who has registered MUST stop by the library that day to check in so that we know you are actually participating\, and pick up a map of the locations.  The map will include a variety of places we feel might provide young artists with plenty of opportunity to show off their creative skills and also show us something they think is beautiful within Carleton Place. Some of the locations may not be expected–and we’d like everyone to have the same amount of time to create–from 9am-5pm on June 13\, 2026–so don’t guess! Stop by the library and pick up a map and check in and you’ll be on your way. \nMEDIUMS\nWe’d love to see how creative people can get!  Use paint\, crayons\, markers\, collage–whatever will be the most creative and still allow the beauty of the location to shine.  Please do not encourage your young artist to use OILS as they take a long time to dry and we will not be able to support this medium at the library for safe display.  We would also ask that no one create sculpture as we will only have room to display pieces that can be hung. \nJUDGING CRITERIA\nThe wonderful people at the ART HUB will be providing the library with displays and hanging the artwork professionally. We will host an art show inside the library from June 15-25\, 2026.  On Saturday\, June 20\, 2026 from 1-2pm\, we’ll hold a special awards event for the Art Show.  All participants who submit a piece of art will have their work on display. During the first week\, artists from Arts Carleton Place will cast their votes for the best works in each age category. They’ll be looking for: \n\nbest interpretation of the the theme “The Beauty of Carleton Place”\nTechnical Skill\nOriginality\n\nWinners will be awarded prizes generously donated by local businesses and have their works displayed with the designation as a winning piece. Similarly\, the public will vote on their favourite work in the Art Show which will be designated as “Best in Show” at the end of the art show period. Arts Carleton Place has also generously offered to host the winning pieces at the Art Hub after the event. \nAll artists will agree that their work is solely their own and will not include any copyrighted characters from television\, movies\, books\, video games or other media. \nTo find out more about this fun competition\, please attend the info session on Thursday\, March 19 at 10:30am at the Carleton Place Public Library. If you can’t attend\, feel free to email Heidi at hsinnett@carletonplace.ca or visit our website at https://carletonplacelibrary.ca\nWe can’t wait to see what all the young\, talented artists will create around the Beauty of Carleton Place! \n 
URL:https://online.carletonplace.ca/event/carleton-place-youth-landscape-art-competition-2026-online-registration
LOCATION:Carleton Place Public Library\, 101 Beckwith St.\, Carleton Place\, Ontario\, K7C 2T3\, Canada
CATEGORIES:Library
ATTACH;FMTTYPE=image/jpeg:https://online.carletonplace.ca/wp-content/uploads/2026/03/Artists-Name1-e1772742649426.jpg
ORGANIZER;CN="Carleton Place Public Library":MAILTO:library@carletonplace.ca
END:VEVENT
END:VCALENDAR