BEGIN:VCALENDAR
VERSION:2.0
PRODID:-//Carleton Place Online Services - ECPv6.15.20//NONSGML v1.0//EN
CALSCALE:GREGORIAN
METHOD:PUBLISH
X-WR-CALNAME:Carleton Place Online Services
X-ORIGINAL-URL:https://online.carletonplace.ca
X-WR-CALDESC:Events for Carleton Place Online Services
REFRESH-INTERVAL;VALUE=DURATION:PT1H
X-Robots-Tag:noindex
X-PUBLISHED-TTL:PT1H
BEGIN:VTIMEZONE
TZID:America/Toronto
BEGIN:DAYLIGHT
TZOFFSETFROM:-0500
TZOFFSETTO:-0400
TZNAME:EDT
DTSTART:20250309T070000
END:DAYLIGHT
BEGIN:STANDARD
TZOFFSETFROM:-0400
TZOFFSETTO:-0500
TZNAME:EST
DTSTART:20251102T060000
END:STANDARD
BEGIN:DAYLIGHT
TZOFFSETFROM:-0500
TZOFFSETTO:-0400
TZNAME:EDT
DTSTART:20260308T070000
END:DAYLIGHT
BEGIN:STANDARD
TZOFFSETFROM:-0400
TZOFFSETTO:-0500
TZNAME:EST
DTSTART:20261101T060000
END:STANDARD
BEGIN:DAYLIGHT
TZOFFSETFROM:-0500
TZOFFSETTO:-0400
TZNAME:EDT
DTSTART:20270314T070000
END:DAYLIGHT
BEGIN:STANDARD
TZOFFSETFROM:-0400
TZOFFSETTO:-0500
TZNAME:EST
DTSTART:20271107T060000
END:STANDARD
END:VTIMEZONE
BEGIN:VEVENT
DTSTART;TZID=America/Toronto:20260307T193000
DTEND;TZID=America/Toronto:20260307T220000
DTSTAMP:20260425T072050
CREATED:20251218T134558Z
LAST-MODIFIED:20260224T161419Z
UID:10000008-1772911800-1772920800@online.carletonplace.ca
SUMMARY:Jeff Rogers Trio
DESCRIPTION:Carleton Place proudly welcomes The Jeff Rogers Trio to the Historic Town Hall Auditorium on Saturday\, March 7\, 2026\nDoors open: 6:45pm | Show start: 7:30pm\nTickets: $25.00/person \nAbout The Artist: Singer/songwriter Jeff Rogers’ unmistakably soulful voice often evokes weighty comparisons to the past – whether that’s Stevie Wonder\, Ray Charles or even Otis Redding…. however\, his tone\, range\, phrasing\, and sincerity\, all make him unmistakably contemporary – and totally original. Jeff has toured internationally and is in demand session player. He has also been a member of renowned country/rock band The Cooper Brothers for over a decade. \nTickets are on sale now and will sell out- so don’t delay!
URL:https://online.carletonplace.ca/event/jeff-rogers-trio
LOCATION:Carleton Place Town Hall Auditorium\, 175 Bridge St\, Carleton Place\, Ontario\, K7C2V8\, Canada
CATEGORIES:Community Events
ATTACH;FMTTYPE=image/png:https://online.carletonplace.ca/wp-content/uploads/2025/12/JeffRogersTrioBanner.png
ORGANIZER;CN="Town of Carleton Place":MAILTO:info@carletonplace.ca
GEO:45.140653079927;-76.146466956953
X-APPLE-STRUCTURED-LOCATION;VALUE=URI;X-ADDRESS=Carleton Place Town Hall Auditorium 175 Bridge St Carleton Place Ontario K7C2V8 Canada;X-APPLE-RADIUS=500;X-TITLE=175 Bridge St:geo:-76.146466956953,45.140653079927
END:VEVENT
BEGIN:VEVENT
DTSTART;TZID=America/Toronto:20260316T160000
DTEND;TZID=America/Toronto:20260316T190000
DTSTAMP:20260425T072050
CREATED:20260302T143049Z
LAST-MODIFIED:20260312T155919Z
UID:10000016-1773676800-1773687600@online.carletonplace.ca
SUMMARY:Teen D&D Night (Part 1&2)
DESCRIPTION:Join us for two nights of Teen D&D at the Carleton Place Public Library! We will be meeting in the Barbra Walsh room on Tuesday and Thursday evening to take part in an adventure filled with magic\, monsters\, & more! There will be some light snacks\, drinks\, and good times for all registrants. PLEASE NOTE: This registration is for BOTH parts of this series\, although the date and time reflect only the first meeting. The second half of the adventure will take place on Thursday\, March 19th from 5:00 PM – 7:00 PM. Please ensure you can attend BOTH events before you register.  This event is only for players ages 12+. \nA note about registration: Registration will open on Monday\, March 2\, 2026 at 9:30am.  There are limited spaces.  If you try to register but all the spaces are full\, you can add your name to the waiting list – if anyone de-registers from the program\, everyone on the waitlist will be emailed informing them about the opening\, and you can visit the origonal registration link to register.\n\n\n\n\n\n\n\n\n\n 
URL:https://online.carletonplace.ca/event/teen-dd-night
LOCATION:Carleton Place Public Library\, 101 Beckwith St.\, Carleton Place\, Ontario\, K7C 2T3\, Canada
CATEGORIES:Library
ORGANIZER;CN="Carleton Place Public Library":MAILTO:library@carletonplace.ca
END:VEVENT
BEGIN:VEVENT
DTSTART;TZID=America/Toronto:20260318T100000
DTEND;TZID=America/Toronto:20260318T100000
DTSTAMP:20260425T072050
CREATED:20260302T143043Z
LAST-MODIFIED:20260317T225629Z
UID:10000017-1773828000-1773828000@online.carletonplace.ca
SUMMARY:K-Pop Demon Hunters Bracelet Making
DESCRIPTION:Join us to make bracelets inspired by the world hit K-Pop Demon Hunters! \nWe’ll be listening to all of Huntrix’ hits (and maybe a few by the Saja boys) while we create bracelets with lots of cool beads and charms! \nPLEASE NOTE: This event is for children ages 9+ \nA note about registration: Registration will open on Monday\, March 2\, 2026 at 9:30am.  There are limited spaces.  If you try to register but all the spaces are full\, you can add your name to the waiting list – if anyone de-registers from the program\, everyone on the waitlist will be emailed informing them about the opening\, and you can visit the origonal registration link to register.
URL:https://online.carletonplace.ca/event/k-pop-demon-hunters-bracelet-making
LOCATION:Carleton Place Public Library\, 101 Beckwith St.\, Carleton Place\, Ontario\, K7C 2T3\, Canada
CATEGORIES:Library
ORGANIZER;CN="Carleton Place Public Library":MAILTO:library@carletonplace.ca
END:VEVENT
BEGIN:VEVENT
DTSTART;TZID=America/Toronto:20260321T130000
DTEND;TZID=America/Toronto:20260321T150000
DTSTAMP:20260425T072050
CREATED:20260302T143042Z
LAST-MODIFIED:20260226T192238Z
UID:10000015-1774098000-1774105200@online.carletonplace.ca
SUMMARY:Science Saturday at the library
DESCRIPTION:Science Saturday is coming back to the library this March! \nWHAT IS THIS PROGRAM ABOUT?\nJoin us on Saturday\, March 21\, 2026 from 1-3pm when our favourite science fan Adrian brings his fascinating interactive afternoon of science experiments back to the library.  Kids aged 10 and up will enjoy this hands-on program where they’ll form a hypothesis and test it using skills they’ll learn during this session. Best of all\, it’s going to be fun and very interactive! \nWHAT DO PARENTS NEED TO KNOW?\nParents do not have to stay in the library during this event. Feel free to drop your kids off\, but please make sure they have your contact information in case we need to get in touch before the event is over. Send along a refillable water bottle with your child\, too–we have a water bottle refilling station at the front doors. \nWHY STEM PROGRAMMING AT THE LIBRARY?\nWe know how important STEM programming is to kids. STEM programs expose youth to Science\, Technology\, Engineering and Math skills they may not get in the classroom and it allows all kids to participate in creative and challenging events outside of the school system. We welcome kids with any experience level and a willingness to learn to think critically and try something new. \nWHEN DOES REGISTRATION OPEN?\nRegistration opens on Monday\, March 2\, 2026 at 9:30am.  There are limited spaces.  If you try to register but all the spaces are full\, please add your name to the waiting list to be notified when something becomes available. \nWe’re looking forward to meeting all the budding scientists at the library during March Break!
URL:https://online.carletonplace.ca/event/science-saturday
LOCATION:Carleton Place Public Library\, 101 Beckwith St.\, Carleton Place\, Ontario\, K7C 2T3\, Canada
CATEGORIES:Library
ATTACH;FMTTYPE=image/jpeg:https://online.carletonplace.ca/wp-content/uploads/2026/02/Science-Saturday.jpg
ORGANIZER;CN="Carleton Place Public Library":MAILTO:library@carletonplace.ca
END:VEVENT
END:VCALENDAR